BEGIN:VCALENDAR
VERSION:2.0
PRODID:-//Squarespace Inc/Squarespace 6//v6//EN
BEGIN:VEVENT
UID:59111fba6a49631ac1e7b9a3@squarespace.com
DTSTAMP:20170514T100940Z
DTSTART:20171109T150000Z
DTEND:20171123T220000Z
SUMMARY:NEPAL RETREAT
GEO:27.717245;85.32396
LOCATION:Kathmandu\, Nepal
END:VEVENT
END:VCALENDAR
