BEGIN:VCALENDAR
VERSION:2.0
PRODID:-//Squarespace Inc/Squarespace 6//v6//EN
BEGIN:VEVENT
UID:5a149126ec212d1cc9128355@squarespace.com
DTSTAMP:20180614T084648Z
DTSTART:20180501T200000Z
DTEND:20180509T210000Z
SUMMARY:The Alchemist
GEO:-13.306508;-72.012866
LOCATION:S'acha Munay\, Peru
END:VEVENT
END:VCALENDAR
