BEGIN:VCALENDAR
VERSION:2.0
PRODID:-//Squarespace Inc/Squarespace 6//v6//EN
BEGIN:VEVENT
UID:59111a4e5016e1d346f958da@squarespace.com
DTSTAMP:20201205T054049Z
DTSTART:20220801T130000Z
DTEND:20220807T170000Z
SUMMARY:SAMOA BLISS RETREAT
GEO:-14.043516;-171.442319
LOCATION:LITIA SINI RESORT\, LALOMANU\, SAMOA
END:VEVENT
END:VCALENDAR
