BEGIN:VCALENDAR
VERSION:2.0
PRODID:-//Squarespace Inc/Squarespace 6//v6//EN
BEGIN:VEVENT
UID:5c88432be79c703af7c84d16@squarespace.com
DTSTAMP:20190924T035347Z
DTSTART:20190516T130000Z
DTEND:20190521T140000Z
SUMMARY:BODY LOVE BALI  
GEO:-8.753355;115.219661
LOCATION:North Coast\, Bali
END:VEVENT
END:VCALENDAR
