BEGIN:VCALENDAR
VERSION:2.0
PRODID:-//Squarespace Inc/Squarespace 6//v6//EN
BEGIN:VEVENT
UID:5fc2cdf73f75b1664330e2a8@squarespace.com
DTSTAMP:20210103T034317Z
DTSTART:20210507T170000Z
DTEND:20210510T170000Z
SUMMARY:Divine Feminine Retreat 
GEO:-36.983095;174.626982
LOCATION:Bay of Plenty\, New Zealand
END:VEVENT
END:VCALENDAR
