BEGIN:VCALENDAR
VERSION:2.0
PRODID:-//Squarespace Inc/Squarespace 6//v6//EN
BEGIN:VEVENT
UID:5babfcf4104c7b54a2f80e90@squarespace.com
DTSTAMP:20190924T034404Z
DTSTART:20191120T140000Z
DTEND:20191125T220000Z
SUMMARY:RE-BIRTH
GEO:-8.340539;115.091951
LOCATION:BALI
END:VEVENT
END:VCALENDAR
