BEGIN:VCALENDAR
VERSION:2.0
PRODID:-//Squarespace Inc/Squarespace 6//v6//EN
BEGIN:VEVENT
UID:591118ef1b10e32648705d1e@squarespace.com
DTSTAMP:20201205T054106Z
DTSTART:20220921T170000Z
DTEND:20220927T220000Z
SUMMARY:TONGA YOGA + WELL-BEING RETREAT
GEO:-19.75;-174.366667
LOCATION:SERENITY RESORT\, Ha'apai\, Tonga\, TONGA
END:VEVENT
END:VCALENDAR
