BEGIN:VCALENDAR
VERSION:2.0
PRODID:-//Squarespace Inc/Squarespace 6//v6//EN
BEGIN:VEVENT
UID:5f31f2a1f701ba6b2422aff5@squarespace.com
DTSTAMP:20210103T035518Z
DTSTART:20210205T200000Z
DTEND:20210208T150000Z
SUMMARY:Island Bliss - 4 day Retreat 
GEO:-36.800049;175.100972
LOCATION:Waiheke Island\, New Zealand
END:VEVENT
END:VCALENDAR
