BEGIN:VCALENDAR
VERSION:2.0
PRODID:-//Squarespace Inc/Squarespace 6//v6//EN
BEGIN:VEVENT
UID:5f24fa72401e8d4dfe59322b@squarespace.com
DTSTAMP:20200916T001041Z
DTSTART:20201023T190000Z
DTEND:20201026T190000Z
SUMMARY:Island Bliss - 4 day Retreat
GEO:-36.800049;175.100972
LOCATION:Waiheke Island\, New Zealand
END:VEVENT
END:VCALENDAR
