BEGIN:VCALENDAR
VERSION:2.0
PRODID:-//Squarespace Inc/Squarespace 6//v6//EN
BEGIN:VEVENT
UID:5f45e0ef81572138227ba0cb@squarespace.com
DTSTAMP:20201021T020118Z
DTSTART:20201127T200000Z
DTEND:20201129T180000Z
SUMMARY:Rainforest Wellness Weekend - November
GEO:-36.923102;174.563664
LOCATION:Waitakere Resort
END:VEVENT
END:VCALENDAR
