BEGIN:VCALENDAR
VERSION:2.0
PRODID:-//Squarespace Inc/Squarespace 6//v6//EN
BEGIN:VEVENT
UID:5df1498ab6832902415d46ff@squarespace.com
DTSTAMP:20200304T004938Z
DTSTART:20200320T190000Z
DTEND:20200322T170000Z
SUMMARY:Wellness Weekend - March
GEO:-36.923127;174.563656
LOCATION:Waitakere Estate
END:VEVENT
END:VCALENDAR
