BEGIN:VCALENDAR
VERSION:2.0
PRODID:-//Squarespace Inc/Squarespace 6//v6//EN
BEGIN:VEVENT
UID:59169f7d1e5b6c94072ceb26@squarespace.com
DTSTAMP:20210119T025202Z
DTSTART:20210129T140000Z
DTEND:20211226T170000Z
SUMMARY:Elemental Alchemy - Chi Kung + Energy Medicine Practitioner and Tea
 cher Training
GEO:-36.940252;174.654188
LOCATION:SOUL CENTRE\, 18 Huia Road\, Auckland\, New Zealand
END:VEVENT
END:VCALENDAR
