BEGIN:VCALENDAR
VERSION:2.0
PRODID:-//Squarespace Inc/Squarespace 6//v6//EN
BEGIN:VEVENT
UID:5e30d4ef7c3b39611cabd51a@squarespace.com
DTSTAMP:20210119T031141Z
DTSTART:20210528T230000Z
DTEND:20210530T210000Z
SUMMARY:Cacao Ceremony Facilitator Training 2021
GEO:-36.938182;174.654076
LOCATION:18 Huia Road\, Titirangi
END:VEVENT
END:VCALENDAR
