BEGIN:VCALENDAR
VERSION:2.0
PRODID:-//Squarespace Inc/Squarespace 6//v6//EN
BEGIN:VEVENT
UID:58fff909d2b857cbcdcc89f8@squarespace.com
DTSTAMP:20190924T053931Z
DTSTART:20180228T150000Z
DTEND:20180305T220000Z
SUMMARY:Shin Somatics Movement Therapy and Yoga Teacher Training
GEO:-36.940252;174.654188
LOCATION:18 Huia Road\, Auckland\, Auckland\, 0604\, New Zealand
END:VEVENT
END:VCALENDAR
