BEGIN:VCALENDAR
VERSION:2.0
PRODID:-//Squarespace Inc/Squarespace 6//v6//EN
BEGIN:VEVENT
UID:5912b1d837c581ac7fb4e793@squarespace.com
DTSTAMP:20170907T041225Z
DTSTART:20171014T143000Z
DTEND:20171014T213000Z
SUMMARY:THE OPEN HEART -  A SHIN YOGA AND INSIGHT MEDITATION DAY RETREAT 
GEO:-36.940252;174.654188
LOCATION:Soul Centre of the Body and Mind\, 18 Huia Road\, Auckland\, Auckl
 and\, 0604\, New Zealand
END:VEVENT
END:VCALENDAR
