BEGIN:VCALENDAR
VERSION:2.0
PRODID:-//Squarespace Inc/Squarespace 6//v6//EN
BEGIN:VEVENT
UID:59b0c5f503596ea2cfb84c69@squarespace.com
DTSTAMP:20170907T041312Z
DTSTART:20171015T184500Z
DTEND:20171015T210000Z
SUMMARY:Qoya - Freedom to Fly 
END:VEVENT
END:VCALENDAR
