BEGIN:VCALENDAR
VERSION:2.0
PRODID:-//Squarespace Inc/Squarespace 6//v6//EN
BEGIN:VEVENT
UID:59caf3303e00be12e66308b5@squarespace.com
DTSTAMP:20170927T004633Z
DTSTART:20171028T150000Z
DTEND:20171028T230000Z
SUMMARY:Unlock Ecstasy! Ecstatic Living\, Pleasure and Empowerment
GEO:-36.940252;174.654188
LOCATION:SOUL CENTRE\, 18 Huia Road\, Auckland\, Auckland\, 0604\, New Zeal
 and
END:VEVENT
END:VCALENDAR
