BEGIN:VCALENDAR
VERSION:2.0
PRODID:-//Squarespace Inc/Squarespace 6//v6//EN
BEGIN:VEVENT
UID:59caf1b86f4ca3881a0ef19e@squarespace.com
DTSTAMP:20170927T003837Z
DTSTART:20171029T140000Z
DTEND:20171029T220000Z
SUMMARY:Wild Wise Women Sensual Empowerment
GEO:-36.940252;174.654188
LOCATION:SOUL CENTRE\, 18 Huia Road\, Auckland\, Auckland\, 0604\, New Zeal
 and
END:VEVENT
END:VCALENDAR
