BEGIN:VCALENDAR
VERSION:2.0
PRODID:-//Squarespace Inc/Squarespace 6//v6//EN
BEGIN:VEVENT
UID:59caf550197aeafa5576f449@squarespace.com
DTSTAMP:20170927T005128Z
DTSTART:20171006T230000Z
DTEND:20171008T003000Z
SUMMARY:Open Floor Dance Out West
GEO:-36.940252;174.654188
LOCATION:SOUL CENTRE\, 18 Huia Road\, Auckland\, Auckland\, 0604\, New Zeal
 and
END:VEVENT
END:VCALENDAR
