BEGIN:VCALENDAR
VERSION:2.0
PRODID:-//Squarespace Inc/Squarespace 6//v6//EN
BEGIN:VEVENT
UID:59f7d59f24a69437affa8a73@squarespace.com
DTSTAMP:20171031T023815Z
DTSTART:20171119T210000Z
DTEND:20171120T230000Z
SUMMARY:Shin Yoga Evening Retreat
GEO:-36.940252;174.654188
LOCATION:SOUL CENTRE\, 18 Huia Road\, Auckland\, Auckland\, 0604\, New Zeal
 and
END:VEVENT
END:VCALENDAR
