BEGIN:VCALENDAR
VERSION:2.0
PRODID:-//Squarespace Inc/Squarespace 6//v6//EN
BEGIN:VEVENT
UID:5a124495419202823585c5e9@squarespace.com
DTSTAMP:20171120T040814Z
DTSTART:20171125T223000Z
DTEND:20171126T000000Z
SUMMARY:Kirtan & Meditation - Amma NZ Event
END:VEVENT
END:VCALENDAR
