BEGIN:VCALENDAR
VERSION:2.0
PRODID:-//Squarespace Inc/Squarespace 6//v6//EN
BEGIN:VEVENT
UID:5a00eb4671c10bc51a3375c9@squarespace.com
DTSTAMP:20171106T231045Z
DTSTART:20171127T000000Z
DTEND:20171128T013000Z
SUMMARY:Dance Mandala
GEO:-36.940252;174.654188
LOCATION:SOUL CENTRE\, 18 Huia Road\, Auckland\, Auckland\, 0604\, New Zeal
 and
END:VEVENT
END:VCALENDAR
