BEGIN:VCALENDAR
VERSION:2.0
PRODID:-//Squarespace Inc/Squarespace 6//v6//EN
BEGIN:VEVENT
UID:5a124533ec212df525b81df8@squarespace.com
DTSTAMP:20171120T040948Z
DTSTART:20171127T000000Z
DTEND:20171127T020000Z
SUMMARY:Kirtan with Shakti members and friends
END:VEVENT
END:VCALENDAR
