BEGIN:VCALENDAR
VERSION:2.0
PRODID:-//Squarespace Inc/Squarespace 6//v6//EN
BEGIN:VEVENT
UID:5a0136b19140b76733952f23@squarespace.com
DTSTAMP:20171107T045633Z
DTSTART:20171126T210000Z
DTEND:20171127T230000Z
SUMMARY:Shamanic Sound Healing Journey
GEO:-36.940252;174.654188
LOCATION:SOUL CENTRE\, 18 Huia Road\, Auckland\, Auckland\, 0604\, New Zeal
 and
END:VEVENT
END:VCALENDAR
