BEGIN:VCALENDAR
VERSION:2.0
PRODID:-//Squarespace Inc/Squarespace 6//v6//EN
BEGIN:VEVENT
UID:59b5f500cd39c304a14b2f67@squarespace.com
DTSTAMP:20171212T015241Z
DTSTART:20180225T213000Z
DTEND:20180225T223000Z
SUMMARY:Free Intro Talk - Biodynamic Craniosacral Therapy Training Course 2
 018
END:VEVENT
END:VCALENDAR
