BEGIN:VCALENDAR
VERSION:2.0
PRODID:-//Squarespace Inc/Squarespace 6//v6//EN
BEGIN:VEVENT
UID:5a2e097753450ab787e052e5@squarespace.com
DTSTAMP:20171211T043225Z
DTSTART:20180330T170000Z
DTEND:20180401T170000Z
SUMMARY:Easter Exploration of Continuum
GEO:-36.940252;174.654188
LOCATION:SOUL CENTRE\, 18 Huia Road\, Auckland\, Auckland\, 0604\, New Zeal
 and
END:VEVENT
END:VCALENDAR
