BEGIN:VCALENDAR
VERSION:2.0
PRODID:-//Squarespace Inc/Squarespace 6//v6//EN
BEGIN:VEVENT
UID:5a1250789140b7281e32454c@squarespace.com
DTSTAMP:20171218T011905Z
DTSTART:20180112T150000Z
DTEND:20180112T200000Z
SUMMARY:Courage\, Creativity and Confidence - Yoga for Young Women
END:VEVENT
END:VCALENDAR
