BEGIN:VCALENDAR
VERSION:2.0
PRODID:-//Squarespace Inc/Squarespace 6//v6//EN
BEGIN:VEVENT
UID:5a124fb08165f561f553acc2@squarespace.com
DTSTAMP:20171120T041040Z
DTSTART:20171216T150000Z
DTEND:20171216T190000Z
SUMMARY:Annual SOUL Summer Potluck
END:VEVENT
END:VCALENDAR
