BEGIN:VCALENDAR
VERSION:2.0
PRODID:-//Squarespace Inc/Squarespace 6//v6//EN
BEGIN:VEVENT
UID:5a24b000419202b1df310e4c@squarespace.com
DTSTAMP:20171204T022302Z
DTSTART:20180113T153000Z
DTEND:20180114T220000Z
SUMMARY:Whakaahua Dance Wananga/Workshop with Louise Potiki Bryant
END:VEVENT
END:VCALENDAR
