BEGIN:VCALENDAR
VERSION:2.0
PRODID:-//Squarespace Inc/Squarespace 6//v6//EN
BEGIN:VEVENT
UID:5a8251470d9297eb044a7985@squarespace.com
DTSTAMP:20180322T011526Z
DTSTART:20180422T200000Z
DTEND:20180422T220000Z
SUMMARY:Shin Yoga Evening Retreat
GEO:-36.940252;174.654188
LOCATION:SOUL CENTRE\, 18 Huia Road\, Auckland\, Auckland\, 0604\, New Zeal
 and
END:VEVENT
END:VCALENDAR
