BEGIN:VCALENDAR
VERSION:2.0
PRODID:-//Squarespace Inc/Squarespace 6//v6//EN
BEGIN:VEVENT
UID:59f7d641e4966b2de094dfed@squarespace.com
DTSTAMP:20180213T024527Z
DTSTART:20180325T200000Z
DTEND:20180325T220000Z
SUMMARY:Shin Yoga Evening Retreat
GEO:-36.940252;174.654188
LOCATION:SOUL CENTRE\, 18 Huia Road\, Auckland\, Auckland\, 0604\, New Zeal
 and
END:VEVENT
END:VCALENDAR
