BEGIN:VCALENDAR
VERSION:2.0
PRODID:-//Squarespace Inc/Squarespace 6//v6//EN
BEGIN:VEVENT
UID:5911425dbe6594340012c7e9@squarespace.com
DTSTAMP:20170514T095544Z
DTSTART:20170531T140000Z
DTEND:20170604T210000Z
SUMMARY:SHIN SOMATICS MODULE
GEO:-36.940252;174.654188
LOCATION:SOUL Centre of the Body and Mind\, 18 Huia Road\, Auckland\, Auckl
 and\, 0604\, New Zealand
END:VEVENT
END:VCALENDAR
