BEGIN:VCALENDAR
VERSION:2.0
PRODID:-//Squarespace Inc/Squarespace 6//v6//EN
BEGIN:VEVENT
UID:5951b1d28419c28caf62b222@squarespace.com
DTSTAMP:20170627T012441Z
DTSTART:20170702T230000Z
DTEND:20170703T010000Z
SUMMARY:CACAO + KIRTAN BIRTHDAY CELEBRATION
GEO:-36.940252;174.654188
LOCATION:SOUL CENTRE\, 18 Huia Road\, Auckland\, Auckland\, 0604\, New Zeal
 and
END:VEVENT
END:VCALENDAR
