BEGIN:VCALENDAR
VERSION:2.0
PRODID:-//Squarespace Inc/Squarespace 6//v6//EN
BEGIN:VEVENT
UID:596d6e7e3a04110b1bb45835@squarespace.com
DTSTAMP:20170718T021704Z
DTSTART:20170723T200000Z
DTEND:20170723T220000Z
SUMMARY:Sacred Sensuality - Qoya
GEO:-36.940252;174.654188
LOCATION:SOUL Centre\, 18 Huia Road\, Auckland\, Auckland\, 0604\, New Zeal
 and
END:VEVENT
END:VCALENDAR
