BEGIN:VCALENDAR
VERSION:2.0
PRODID:-//Squarespace Inc/Squarespace 6//v6//EN
BEGIN:VEVENT
UID:5941fda11e5b6c5cc530d5f7@squarespace.com
DTSTAMP:20170615T032936Z
DTSTART:20170706T130000Z
DTEND:20170706T170000Z
SUMMARY:FREE WORKSHOP - Integrated Amrita Meditation Technique
GEO:-36.940252;174.654188
LOCATION:SOUL CENTRE\, 18 Huia Road\, Auckland\, Auckland\, 0604\, New Zeal
 and
END:VEVENT
END:VCALENDAR
