BEGIN:VCALENDAR
VERSION:2.0
PRODID:-//Squarespace Inc/Squarespace 6//v6//EN
BEGIN:VEVENT
UID:596d7a7f725e25fb5efa760e@squarespace.com
DTSTAMP:20170718T032256Z
DTSTART:20170805T140000Z
DTEND:20170805T160000Z
SUMMARY:Astanga Yoga Essentials
GEO:-36.940252;174.654188
LOCATION:SOUL Centre\, 18 Huia Road\, Auckland\, Auckland\, 0604\, New Zeal
 and
END:VEVENT
END:VCALENDAR
