BEGIN:VCALENDAR
VERSION:2.0
PRODID:-//Squarespace Inc/Squarespace 6//v6//EN
BEGIN:VEVENT
UID:59c06dcf46c3c404b399e943@squarespace.com
DTSTAMP:20170919T011520Z
DTSTART:20170924T230000Z
DTEND:20170925T003000Z
SUMMARY:Kirtan with Emma Skellern
GEO:-36.940252;174.654188
LOCATION:SOUL CENTRE\, 18 Huia Road\, Auckland\, Auckland\, 0604\, New Zeal
 and
END:VEVENT
END:VCALENDAR
