BEGIN:VCALENDAR
VERSION:2.0
PRODID:-//Squarespace Inc/Squarespace 6//v6//EN
BEGIN:VEVENT
UID:59705504be6594cebe85c03f@squarespace.com
DTSTAMP:20170720T070652Z
DTSTART:20170930T200000Z
DTEND:20170930T220000Z
SUMMARY:World Organics Spa Afternoon
GEO:-36.940252;174.654188
LOCATION:SOUL CENTRE\, 18 Huia Road\, Auckland\, Auckland\, 0604\, New Zeal
 and
END:VEVENT
END:VCALENDAR
