BEGIN:VCALENDAR
VERSION:2.0
PRODID:-//Squarespace Inc/Squarespace 6//v6//EN
BEGIN:VEVENT
UID:59a3b32146c3c467e8a8abc6@squarespace.com
DTSTAMP:20171130T010807Z
DTSTART:20171209T000000Z
DTEND:20171209T013000Z
SUMMARY:Dance Mandala
GEO:-36.940252;174.654188
LOCATION:SOUL CENTRE\, 18 Huia Road\, Auckland\, Auckland\, 0604\, New Zeal
 and
END:VEVENT
END:VCALENDAR
