BEGIN:VCALENDAR
VERSION:2.0
PRODID:-//Squarespace Inc/Squarespace 6//v6//EN
BEGIN:VEVENT
UID:5a52b351c830256b61aca83e@squarespace.com
DTSTAMP:20180108T031555Z
DTSTART:20180111T230000Z
DTEND:20180126T000000Z
SUMMARY:3 weeks of Gentle Fascial Yoga with Martin
GEO:-36.940252;174.654188
LOCATION:SOUL CENTRE\, 18 Huia Road\, Auckland\, Auckland\, 0604\, New Zeal
 and
END:VEVENT
END:VCALENDAR
