BEGIN:VCALENDAR
VERSION:2.0
PRODID:-//Squarespace Inc/Squarespace 6//v6//EN
BEGIN:VEVENT
UID:5a2e04b1e4966be66fd6f874@squarespace.com
DTSTAMP:20171211T041840Z
DTSTART:20180120T000000Z
DTEND:20180120T020000Z
SUMMARY:Meridian Dance with Kimberley Jade
GEO:-36.940252;174.654188
LOCATION:SOUL CENTRE\, 18 Huia Road\, Auckland\, Auckland\, 0604\, New Zeal
 and
END:VEVENT
END:VCALENDAR
