BEGIN:VCALENDAR
VERSION:2.0
PRODID:-//Squarespace Inc/Squarespace 6//v6//EN
BEGIN:VEVENT
UID:5a4de19e71c10b1be8801e69@squarespace.com
DTSTAMP:20180104T083247Z
DTSTART:20180127T150000Z
DTEND:20180128T220000Z
SUMMARY:Embodied Change
GEO:-36.940252;174.654188
LOCATION:SOUL CENTRE\, 18 Huia Road\, Auckland\, Auckland\, 0604\, New Zeal
 and
END:VEVENT
END:VCALENDAR
