BEGIN:VCALENDAR
VERSION:2.0
PRODID:-//Squarespace Inc/Squarespace 6//v6//EN
BEGIN:VEVENT
UID:5a31e587652dea4e8a2387b2@squarespace.com
DTSTAMP:20180123T032619Z
DTSTART:20180210T153000Z
DTEND:20180210T183000Z
SUMMARY:Breath of Bliss Ceremony with Shannon Rose
END:VEVENT
END:VCALENDAR
