BEGIN:VCALENDAR
VERSION:2.0
PRODID:-//Squarespace Inc/Squarespace 6//v6//EN
BEGIN:VEVENT
UID:5a7d0fb0c83025fff3cd8dab@squarespace.com
DTSTAMP:20180209T030721Z
DTSTART:20180212T000000Z
DTEND:20180212T010000Z
SUMMARY:Ommmm Circle
GEO:-36.940252;174.654188
LOCATION:SOUL CENTRE\, 18 Huia Road\, Auckland\, Auckland\, 0604\, New Zeal
 and
END:VEVENT
END:VCALENDAR
