BEGIN:VCALENDAR
VERSION:2.0
PRODID:-//Squarespace Inc/Squarespace 6//v6//EN
BEGIN:VEVENT
UID:5a82509a71c10b35084960ed@squarespace.com
DTSTAMP:20180213T024446Z
DTSTART:20180405T140000Z
DTEND:20180408T210000Z
SUMMARY:Embodying SOULPRINT with Sarah Grace
GEO:-36.940252;174.654188
LOCATION:SOUL CENTRE\, 18 Huia Road\, Auckland\, Auckland\, 0604\, New Zeal
 and
END:VEVENT
END:VCALENDAR
