BEGIN:VCALENDAR
VERSION:2.0
PRODID:-//Squarespace Inc/Squarespace 6//v6//EN
BEGIN:VEVENT
UID:5a6914a5c830258a3aeb125e@squarespace.com
DTSTAMP:20180125T015607Z
DTSTART:20180316T230000Z
DTEND:20180317T013000Z
SUMMARY:Film Screening: WISDOMKEEPERS\, PAQO ANDINO
GEO:-36.940252;174.654188
LOCATION:SOUL Centre\, 18 Huia Road\, Auckland\, Auckland\, 0604\, New Zeal
 and
END:VEVENT
END:VCALENDAR
