BEGIN:VCALENDAR
VERSION:2.0
PRODID:-//Squarespace Inc/Squarespace 6//v6//EN
BEGIN:VEVENT
UID:5a824e59e4966b68d22ac363@squarespace.com
DTSTAMP:20180213T032537Z
DTSTART:20180317T140000Z
DTEND:20180318T210000Z
SUMMARY:Heartways of the Andean Altimisayoqs - Auckland
GEO:-36.978387;174.606736
LOCATION:TBC\, Huia Road\, Auckland\, 0604\, New Zealand
END:VEVENT
END:VCALENDAR
