BEGIN:VCALENDAR
VERSION:2.0
PRODID:-//Squarespace Inc/Squarespace 6//v6//EN
BEGIN:VEVENT
UID:5a8e32d28165f569cbfdca50@squarespace.com
DTSTAMP:20180225T074828Z
DTSTART:20180306T190000Z
DTEND:20180306T220000Z
SUMMARY:Integrated Amrita Meditation Technique
GEO:-36.940252;174.654188
LOCATION:SOUL CENTRE\, 18 Huia Road\, Auckland\, Auckland\, 0604\, New Zeal
 and
END:VEVENT
END:VCALENDAR
