BEGIN:VCALENDAR
VERSION:2.0
PRODID:-//Squarespace Inc/Squarespace 6//v6//EN
BEGIN:VEVENT
UID:5ac3f97788251b86bca71e01@squarespace.com
DTSTAMP:20180403T220856Z
DTSTART:20180421T140000Z
DTEND:20180421T170000Z
SUMMARY:Grounded Expression
GEO:-36.940252;174.654188
LOCATION:SOUL Centre\, 18 Huia Road\, Auckland\, Auckland\, 0604\, New Zeal
 and
END:VEVENT
END:VCALENDAR
