BEGIN:VCALENDAR
VERSION:2.0
PRODID:-//Squarespace Inc/Squarespace 6//v6//EN
BEGIN:VEVENT
UID:5adef347aa4a996c3818edfd@squarespace.com
DTSTAMP:20201019T030211Z
DTSTART:20210703T163000Z
DTEND:20210703T233000Z
SUMMARY:Cultivating Self-Compassion - A Shin Yoga and Insight Meditation Da
 y Retreat
GEO:-36.940252;174.654188
LOCATION:SOUL CENTRE\, 18 Huia Road\, Auckland\, Auckland\, 0604\, New Zeal
 and
END:VEVENT
END:VCALENDAR
